BEGIN:VCALENDAR
VERSION:2.0
PRODID:-//wp-events-plugin.com//7.2.3.1//EN
TZID:Europe/Zurich
X-WR-TIMEZONE:Europe/Zurich
BEGIN:VEVENT
UID:173@czt.ch
DTSTART;TZID=Europe/Zurich:20260421T090000
DTEND;TZID=Europe/Zurich:20260421T110000
DTSTAMP:20251027T140019Z
URL:https://czt.ch/event/frauen-gebet-2026-04-21/
SUMMARY:Frauen Gebet
DESCRIPTION:
LOCATION:Raum weiss\, Sägebachweg 5\, Wichtrach\, Schweiz
X-APPLE-STRUCTURED-LOCATION;VALUE=URI;X-ADDRESS=Sägebachweg 5\, Wichtrach\
 , Schweiz;X-APPLE-RADIUS=100;X-TITLE=Raum weiss:geo:0,0
END:VEVENT
BEGIN:VEVENT
UID:724@czt.ch
DTSTART;TZID=Europe/Zurich:20260422T193000
DTEND;TZID=Europe/Zurich:20260422T210000
DTSTAMP:20251030T095313Z
URL:https://czt.ch/event/gmeindegebet-2026-04-22/
SUMMARY:Gemeindegebet
DESCRIPTION:
LOCATION:Saal\, Christliches Zentrum Thalgut\, Sägebachweg 1\, Wichtrach\,
  Schweiz
X-APPLE-STRUCTURED-LOCATION;VALUE=URI;X-ADDRESS=Sägebachweg 1\, Wichtrach\
 , Schweiz;X-APPLE-RADIUS=100;X-TITLE=Saal\, Christliches Zentrum Thalgut:g
 eo:0,0
END:VEVENT
BEGIN:VEVENT
UID:1038@czt.ch
DTSTART;TZID=Europe/Zurich:20260423T200000
DTEND;TZID=Europe/Zurich:20260423T213000
DTSTAMP:20260123T105413Z
URL:https://czt.ch/event/hoerendes-gebet-5/
SUMMARY:Hörendesgebet
DESCRIPTION:
LOCATION:Raum weiss\, Sägebachweg 5\, Wichtrach\, Schweiz
X-APPLE-STRUCTURED-LOCATION;VALUE=URI;X-ADDRESS=Sägebachweg 5\, Wichtrach\
 , Schweiz;X-APPLE-RADIUS=100;X-TITLE=Raum weiss:geo:0,0
END:VEVENT
BEGIN:VEVENT
UID:1058@czt.ch
DTSTART;TZID=Europe/Zurich:20260425T140000
DTEND;TZID=Europe/Zurich:20260425T170000
DTSTAMP:20260123T153327Z
URL:https://czt.ch/event/jungschi-11/
SUMMARY:Jungschi
DESCRIPTION:
LOCATION:Parkplatz Brügger Gärten AG\, Talstrasse 1\, Wichtrach\, Schweiz
X-APPLE-STRUCTURED-LOCATION;VALUE=URI;X-ADDRESS=Talstrasse 1\, Wichtrach\, 
 Schweiz;X-APPLE-RADIUS=100;X-TITLE=Parkplatz Brügger Gärten AG:geo:0,0
END:VEVENT
BEGIN:VEVENT
UID:609@czt.ch
DTSTART;TZID=Europe/Zurich:20260426T100000
DTEND;TZID=Europe/Zurich:20260426T114500
DTSTAMP:20251028T081807Z
URL:https://czt.ch/event/gottesdienst-mit-kinderprogramm-2025-11-02-2025-1
 1-09-2025-11-16-2025-11-23-2025-11-30-2025-12-07-2025-12-14-2025-12-21-202
 5-12-28-2026-01-04-2026-01-11-2026-01-18-2026-01-25-2026-02-01-19-2026-04-
 26/
SUMMARY:Gottesdienst mit Kinderprogramm
DESCRIPTION:Die Kinder starten gemeinsam mit der Familie im Gottesdienst.\n
 Auf den Leinwänden wird der Start des KiHo und KiGo anzeigt.\nAm 4. Sonnt
 ag im Monat starten die KiGo-Kids direkt im grünen Raum für gemeinsame K
 inder-Lobpreiszeit.\nKiHo (Kinderhort)\nAb 1jährig bis Kindergarten\nIm r
 oten Raum. Zugang über Haupteingang\, Untergeschoss.\nKiGo (Kindergottesd
 ienst)\nStart mit Familie im GD Saal.\nAb Kindergarten bis 1. Klasse\nKind
 ergottesdienst im blauen Raum. Zugang über den Haupteingang\, Untergescho
 ss.\nAb 2. Klasse bis 6. Klasse\nKindergottesdienst im grünen Raum. Zugan
 g über Haupteingang\, Untergeschoss.
LOCATION:Christliches Zentrum Thalgut\, Sägebachweg 5\, Wichtrach\, Schwei
 z
X-APPLE-STRUCTURED-LOCATION;VALUE=URI;X-ADDRESS=Sägebachweg 5\, Wichtrach\
 , Schweiz;X-APPLE-RADIUS=100;X-TITLE=Christliches Zentrum Thalgut:geo:0,0
END:VEVENT
BEGIN:VEVENT
UID:905@czt.ch
DTSTART;TZID=Europe/Zurich:20260427T060000
DTEND;TZID=Europe/Zurich:20260427T070000
DTSTAMP:20251031T104614Z
URL:https://czt.ch/event/fruehgebet-2026-04-27/
SUMMARY:Frühgebet
DESCRIPTION:Nach einem 5. Sonntag findet jeweils am Montag kein Frühgebet 
 statt.
LOCATION:Raum gelb\, Sägebachweg 5\, Wichtrach\, 3114\, Schweiz
X-APPLE-STRUCTURED-LOCATION;VALUE=URI;X-ADDRESS=Sägebachweg 5\, Wichtrach\
 , 3114\, Schweiz;X-APPLE-RADIUS=100;X-TITLE=Raum gelb:geo:0,0
END:VEVENT
BEGIN:VEVENT
UID:65@czt.ch
DTSTART;TZID=Europe/Zurich:20260428T080000
DTEND;TZID=Europe/Zurich:20260428T100000
DTSTAMP:20251028T103725Z
URL:https://czt.ch/event/feuergebet-2026-04-28/
SUMMARY:Feuergebet
DESCRIPTION:
LOCATION:Raum gelb\, Sägebachweg 5\, Wichtrach\, 3114\, Schweiz
X-APPLE-STRUCTURED-LOCATION;VALUE=URI;X-ADDRESS=Sägebachweg 5\, Wichtrach\
 , 3114\, Schweiz;X-APPLE-RADIUS=100;X-TITLE=Raum gelb:geo:0,0
END:VEVENT
BEGIN:VEVENT
UID:174@czt.ch
DTSTART;TZID=Europe/Zurich:20260428T090000
DTEND;TZID=Europe/Zurich:20260428T110000
DTSTAMP:20251027T140019Z
URL:https://czt.ch/event/frauen-gebet-2026-04-28/
SUMMARY:Frauen Gebet
DESCRIPTION:
LOCATION:Raum weiss\, Sägebachweg 5\, Wichtrach\, Schweiz
X-APPLE-STRUCTURED-LOCATION;VALUE=URI;X-ADDRESS=Sägebachweg 5\, Wichtrach\
 , Schweiz;X-APPLE-RADIUS=100;X-TITLE=Raum weiss:geo:0,0
END:VEVENT
BEGIN:VEVENT
UID:725@czt.ch
DTSTART;TZID=Europe/Zurich:20260429T193000
DTEND;TZID=Europe/Zurich:20260429T210000
DTSTAMP:20251030T095313Z
URL:https://czt.ch/event/gmeindegebet-2026-04-29/
SUMMARY:Gemeindegebet
DESCRIPTION:
LOCATION:Saal\, Christliches Zentrum Thalgut\, Sägebachweg 1\, Wichtrach\,
  Schweiz
X-APPLE-STRUCTURED-LOCATION;VALUE=URI;X-ADDRESS=Sägebachweg 1\, Wichtrach\
 , Schweiz;X-APPLE-RADIUS=100;X-TITLE=Saal\, Christliches Zentrum Thalgut:g
 eo:0,0
END:VEVENT
BEGIN:VEVENT
UID:1103@czt.ch
DTSTART;TZID=Europe/Zurich:20260501T180000
DTEND;TZID=Europe/Zurich:20260501T220000
DTSTAMP:20260416T111732Z
URL:https://czt.ch/event/yg-mit-connect-teens/
SUMMARY:YG mit Connect Teens
DESCRIPTION:18.00 gemeinsames Abendessen (mit Anmeldung)\n19.30 Start Progr
 amm\nLink für WhatsApp Chatgruppe: Hier
LOCATION:Saal\, Christliches Zentrum Thalgut\, Sägebachweg 1\, Wichtrach\,
  Schweiz
X-APPLE-STRUCTURED-LOCATION;VALUE=URI;X-ADDRESS=Sägebachweg 1\, Wichtrach\
 , Schweiz;X-APPLE-RADIUS=100;X-TITLE=Saal\, Christliches Zentrum Thalgut:g
 eo:0,0
END:VEVENT
BEGIN:VEVENT
UID:610@czt.ch
DTSTART;TZID=Europe/Zurich:20260503T100000
DTEND;TZID=Europe/Zurich:20260503T114500
DTSTAMP:20251028T081807Z
URL:https://czt.ch/event/gottesdienst-mit-kinderprogramm-2025-11-02-2025-1
 1-09-2025-11-16-2025-11-23-2025-11-30-2025-12-07-2025-12-14-2025-12-21-202
 5-12-28-2026-01-04-2026-01-11-2026-01-18-2026-01-25-2026-02-01-26-2026-05-
 03/
SUMMARY:Gottesdienst mit Kinderprogramm
DESCRIPTION:Die Kinder starten gemeinsam mit der Familie im Gottesdienst.\n
 Auf den Leinwänden wird der Start des KiHo und KiGo anzeigt.\nAm 4. Sonnt
 ag im Monat starten die KiGo-Kids direkt im grünen Raum für gemeinsame K
 inder-Lobpreiszeit.\nKiHo (Kinderhort)\nAb 1jährig bis Kindergarten\nIm r
 oten Raum. Zugang über Haupteingang\, Untergeschoss.\nKiGo (Kindergottesd
 ienst)\nStart mit Familie im GD Saal.\nAb Kindergarten bis 1. Klasse\nKind
 ergottesdienst im blauen Raum. Zugang über den Haupteingang\, Untergescho
 ss.\nAb 2. Klasse bis 6. Klasse\nKindergottesdienst im grünen Raum. Zugan
 g über Haupteingang\, Untergeschoss.
LOCATION:Christliches Zentrum Thalgut\, Sägebachweg 5\, Wichtrach\, Schwei
 z
X-APPLE-STRUCTURED-LOCATION;VALUE=URI;X-ADDRESS=Sägebachweg 5\, Wichtrach\
 , Schweiz;X-APPLE-RADIUS=100;X-TITLE=Christliches Zentrum Thalgut:geo:0,0
END:VEVENT
BEGIN:VEVENT
UID:906@czt.ch
DTSTART;TZID=Europe/Zurich:20260504T060000
DTEND;TZID=Europe/Zurich:20260504T070000
DTSTAMP:20251031T104614Z
URL:https://czt.ch/event/fruehgebet-2026-05-04/
SUMMARY:Frühgebet
DESCRIPTION:Nach einem 5. Sonntag findet jeweils am Montag kein Frühgebet 
 statt.
LOCATION:Raum gelb\, Sägebachweg 5\, Wichtrach\, 3114\, Schweiz
X-APPLE-STRUCTURED-LOCATION;VALUE=URI;X-ADDRESS=Sägebachweg 5\, Wichtrach\
 , 3114\, Schweiz;X-APPLE-RADIUS=100;X-TITLE=Raum gelb:geo:0,0
END:VEVENT
BEGIN:VEVENT
UID:66@czt.ch
DTSTART;TZID=Europe/Zurich:20260505T080000
DTEND;TZID=Europe/Zurich:20260505T100000
DTSTAMP:20251028T103725Z
URL:https://czt.ch/event/feuergebet-2026-05-05/
SUMMARY:Feuergebet
DESCRIPTION:
LOCATION:Raum gelb\, Sägebachweg 5\, Wichtrach\, 3114\, Schweiz
X-APPLE-STRUCTURED-LOCATION;VALUE=URI;X-ADDRESS=Sägebachweg 5\, Wichtrach\
 , 3114\, Schweiz;X-APPLE-RADIUS=100;X-TITLE=Raum gelb:geo:0,0
END:VEVENT
BEGIN:VEVENT
UID:175@czt.ch
DTSTART;TZID=Europe/Zurich:20260505T090000
DTEND;TZID=Europe/Zurich:20260505T110000
DTSTAMP:20251027T140019Z
URL:https://czt.ch/event/frauen-gebet-2026-05-05/
SUMMARY:Frauen Gebet
DESCRIPTION:
LOCATION:Raum weiss\, Sägebachweg 5\, Wichtrach\, Schweiz
X-APPLE-STRUCTURED-LOCATION;VALUE=URI;X-ADDRESS=Sägebachweg 5\, Wichtrach\
 , Schweiz;X-APPLE-RADIUS=100;X-TITLE=Raum weiss:geo:0,0
END:VEVENT
BEGIN:VEVENT
UID:1099@czt.ch
DTSTART;TZID=Europe/Zurich:20260505T193000
DTEND;TZID=Europe/Zurich:20260505T210000
DTSTAMP:20260415T144853Z
URL:https://czt.ch/event/infoabend-fuer-gemeindemitgliedschaft-2/
SUMMARY:Neumitglieder Info - Abend
DESCRIPTION:Möchtest du mehr über die Geschichte\, Vision und Struktur un
 serer Gemeinde erfahren?\n\nDu bist herzlich eingeladen an diesem Infoaben
 d teilzunehmen.\n\nEs ist keine Anmeldung erforderlich.\n\nUG weisser Raum
END:VEVENT
BEGIN:VEVENT
UID:726@czt.ch
DTSTART;TZID=Europe/Zurich:20260506T193000
DTEND;TZID=Europe/Zurich:20260506T210000
DTSTAMP:20251030T095313Z
URL:https://czt.ch/event/gmeindegebet-2026-05-06/
SUMMARY:Gemeindegebet
DESCRIPTION:
LOCATION:Saal\, Christliches Zentrum Thalgut\, Sägebachweg 1\, Wichtrach\,
  Schweiz
X-APPLE-STRUCTURED-LOCATION;VALUE=URI;X-ADDRESS=Sägebachweg 1\, Wichtrach\
 , Schweiz;X-APPLE-RADIUS=100;X-TITLE=Saal\, Christliches Zentrum Thalgut:g
 eo:0,0
END:VEVENT
BEGIN:VEVENT
UID:843@czt.ch
DTSTART;TZID=Europe/Zurich:20260507T090000
DTEND;TZID=Europe/Zurich:20260507T160000
DTSTAMP:20251028T105640Z
URL:https://czt.ch/event/seniorenreise/
SUMMARY:Seniorenreise
DESCRIPTION:
END:VEVENT
BEGIN:VEVENT
UID:1048@czt.ch
DTSTART;TZID=Europe/Zurich:20260508T193000
DTEND;TZID=Europe/Zurich:20260508T213000
DTSTAMP:20260213T144713Z
URL:https://czt.ch/event/israel-vortrag/
SUMMARY:rea ISRAEL Vortrag
DESCRIPTION:REA Israel Tournee mit Sandy &amp\; Oded Shoshani
LOCATION:Saal\, Christliches Zentrum Thalgut\, Sägebachweg 1\, Wichtrach\,
  Schweiz
X-APPLE-STRUCTURED-LOCATION;VALUE=URI;X-ADDRESS=Sägebachweg 1\, Wichtrach\
 , Schweiz;X-APPLE-RADIUS=100;X-TITLE=Saal\, Christliches Zentrum Thalgut:g
 eo:0,0
END:VEVENT
BEGIN:VEVENT
UID:1059@czt.ch
DTSTART;TZID=Europe/Zurich:20260509T140000
DTEND;TZID=Europe/Zurich:20260509T170000
DTSTAMP:20260123T153402Z
URL:https://czt.ch/event/jungschi-12/
SUMMARY:Jungschi
DESCRIPTION:
LOCATION:Parkplatz Brügger Gärten AG\, Talstrasse 1\, Wichtrach\, Schweiz
X-APPLE-STRUCTURED-LOCATION;VALUE=URI;X-ADDRESS=Talstrasse 1\, Wichtrach\, 
 Schweiz;X-APPLE-RADIUS=100;X-TITLE=Parkplatz Brügger Gärten AG:geo:0,0
END:VEVENT
BEGIN:VEVENT
UID:611@czt.ch
DTSTART;TZID=Europe/Zurich:20260510T100000
DTEND;TZID=Europe/Zurich:20260510T114500
DTSTAMP:20251028T081807Z
URL:https://czt.ch/event/gottesdienst-mit-kinderprogramm-2025-11-02-2025-1
 1-09-2025-11-16-2025-11-23-2025-11-30-2025-12-07-2025-12-14-2025-12-21-202
 5-12-28-2026-01-04-2026-01-11-2026-01-18-2026-01-25-2026-02-01-03-2026-05-
 10/
SUMMARY:Gottesdienst mit Kinderprogramm
DESCRIPTION:Die Kinder starten gemeinsam mit der Familie im Gottesdienst.\n
 Auf den Leinwänden wird der Start des KiHo und KiGo anzeigt.\nAm 4. Sonnt
 ag im Monat starten die KiGo-Kids direkt im grünen Raum für gemeinsame K
 inder-Lobpreiszeit.\nKiHo (Kinderhort)\nAb 1jährig bis Kindergarten\nIm r
 oten Raum. Zugang über Haupteingang\, Untergeschoss.\nKiGo (Kindergottesd
 ienst)\nStart mit Familie im GD Saal.\nAb Kindergarten bis 1. Klasse\nKind
 ergottesdienst im blauen Raum. Zugang über den Haupteingang\, Untergescho
 ss.\nAb 2. Klasse bis 6. Klasse\nKindergottesdienst im grünen Raum. Zugan
 g über Haupteingang\, Untergeschoss.
LOCATION:Christliches Zentrum Thalgut\, Sägebachweg 5\, Wichtrach\, Schwei
 z
X-APPLE-STRUCTURED-LOCATION;VALUE=URI;X-ADDRESS=Sägebachweg 5\, Wichtrach\
 , Schweiz;X-APPLE-RADIUS=100;X-TITLE=Christliches Zentrum Thalgut:geo:0,0
END:VEVENT
BEGIN:VEVENT
UID:907@czt.ch
DTSTART;TZID=Europe/Zurich:20260511T060000
DTEND;TZID=Europe/Zurich:20260511T070000
DTSTAMP:20251031T104614Z
URL:https://czt.ch/event/fruehgebet-2026-05-11/
SUMMARY:Frühgebet
DESCRIPTION:Nach einem 5. Sonntag findet jeweils am Montag kein Frühgebet 
 statt.
LOCATION:Raum gelb\, Sägebachweg 5\, Wichtrach\, 3114\, Schweiz
X-APPLE-STRUCTURED-LOCATION;VALUE=URI;X-ADDRESS=Sägebachweg 5\, Wichtrach\
 , 3114\, Schweiz;X-APPLE-RADIUS=100;X-TITLE=Raum gelb:geo:0,0
END:VEVENT
BEGIN:VEVENT
UID:67@czt.ch
DTSTART;TZID=Europe/Zurich:20260512T080000
DTEND;TZID=Europe/Zurich:20260512T100000
DTSTAMP:20251028T103725Z
URL:https://czt.ch/event/feuergebet-2026-05-12/
SUMMARY:Feuergebet
DESCRIPTION:
LOCATION:Raum gelb\, Sägebachweg 5\, Wichtrach\, 3114\, Schweiz
X-APPLE-STRUCTURED-LOCATION;VALUE=URI;X-ADDRESS=Sägebachweg 5\, Wichtrach\
 , 3114\, Schweiz;X-APPLE-RADIUS=100;X-TITLE=Raum gelb:geo:0,0
END:VEVENT
BEGIN:VEVENT
UID:176@czt.ch
DTSTART;TZID=Europe/Zurich:20260512T090000
DTEND;TZID=Europe/Zurich:20260512T110000
DTSTAMP:20251027T140019Z
URL:https://czt.ch/event/frauen-gebet-2026-05-12/
SUMMARY:Frauen Gebet
DESCRIPTION:
LOCATION:Raum weiss\, Sägebachweg 5\, Wichtrach\, Schweiz
X-APPLE-STRUCTURED-LOCATION;VALUE=URI;X-ADDRESS=Sägebachweg 5\, Wichtrach\
 , Schweiz;X-APPLE-RADIUS=100;X-TITLE=Raum weiss:geo:0,0
END:VEVENT
BEGIN:VEVENT
UID:821@czt.ch
DTSTART;TZID=Europe/Zurich:20260513T140000
DTEND;TZID=Europe/Zurich:20260513T160000
DTSTAMP:20251028T084108Z
URL:https://czt.ch/event/senioren-nachmittag-2025-11-12-2025-12-10-2026-01
 -14-2026-02-11-2026-03-11-2026-04-08-2026-05-13/
SUMMARY:Senioren Nachmittag
DESCRIPTION:
LOCATION:Raum grün\, Sägebachweg 5\, Wichtrach\, Schweiz
X-APPLE-STRUCTURED-LOCATION;VALUE=URI;X-ADDRESS=Sägebachweg 5\, Wichtrach\
 , Schweiz;X-APPLE-RADIUS=100;X-TITLE=Raum grün:geo:0,0
END:VEVENT
BEGIN:VEVENT
UID:727@czt.ch
DTSTART;TZID=Europe/Zurich:20260513T193000
DTEND;TZID=Europe/Zurich:20260513T210000
DTSTAMP:20251030T095313Z
URL:https://czt.ch/event/gmeindegebet-2026-05-13/
SUMMARY:Gemeindegebet
DESCRIPTION:
LOCATION:Saal\, Christliches Zentrum Thalgut\, Sägebachweg 1\, Wichtrach\,
  Schweiz
X-APPLE-STRUCTURED-LOCATION;VALUE=URI;X-ADDRESS=Sägebachweg 1\, Wichtrach\
 , Schweiz;X-APPLE-RADIUS=100;X-TITLE=Saal\, Christliches Zentrum Thalgut:g
 eo:0,0
END:VEVENT
BEGIN:VEVENT
UID:1006@czt.ch
DTSTART;TZID=Europe/Zurich;VALUE=DATE:20260514
DTEND;TZID=Europe/Zurich;VALUE=DATE:20260515
DTSTAMP:20251217T103600Z
URL:https://czt.ch/event/auffahrt/
SUMMARY:Auffahrt
DESCRIPTION:
END:VEVENT
BEGIN:VEVENT
UID:1104@czt.ch
DTSTART;TZID=Europe/Zurich:20260515T180000
DTEND;TZID=Europe/Zurich:20260515T220000
DTSTAMP:20260416T145213Z
URL:https://czt.ch/event/yg-gebet/
SUMMARY:YG (Gebet)
DESCRIPTION:18.00 gemeinsames Abendessen (mit Anmeldung)\n19.30 Start Progr
 amm\nLink für WhatsApp Chatgruppe: Hier
LOCATION:Saal\, Christliches Zentrum Thalgut\, Sägebachweg 1\, Wichtrach\,
  Schweiz
X-APPLE-STRUCTURED-LOCATION;VALUE=URI;X-ADDRESS=Sägebachweg 1\, Wichtrach\
 , Schweiz;X-APPLE-RADIUS=100;X-TITLE=Saal\, Christliches Zentrum Thalgut:g
 eo:0,0
END:VEVENT
BEGIN:VEVENT
UID:612@czt.ch
DTSTART;TZID=Europe/Zurich:20260517T100000
DTEND;TZID=Europe/Zurich:20260517T114500
DTSTAMP:20251028T081807Z
URL:https://czt.ch/event/gottesdienst-mit-kinderprogramm-2025-11-02-2025-1
 1-09-2025-11-16-2025-11-23-2025-11-30-2025-12-07-2025-12-14-2025-12-21-202
 5-12-28-2026-01-04-2026-01-11-2026-01-18-2026-01-25-2026-02-01-10-2026-05-
 17/
SUMMARY:Gottesdienst mit Kinderprogramm
DESCRIPTION:Die Kinder starten gemeinsam mit der Familie im Gottesdienst.\n
 Auf den Leinwänden wird der Start des KiHo und KiGo anzeigt.\nAm 4. Sonnt
 ag im Monat starten die KiGo-Kids direkt im grünen Raum für gemeinsame K
 inder-Lobpreiszeit.\nKiHo (Kinderhort)\nAb 1jährig bis Kindergarten\nIm r
 oten Raum. Zugang über Haupteingang\, Untergeschoss.\nKiGo (Kindergottesd
 ienst)\nStart mit Familie im GD Saal.\nAb Kindergarten bis 1. Klasse\nKind
 ergottesdienst im blauen Raum. Zugang über den Haupteingang\, Untergescho
 ss.\nAb 2. Klasse bis 6. Klasse\nKindergottesdienst im grünen Raum. Zugan
 g über Haupteingang\, Untergeschoss.
LOCATION:Christliches Zentrum Thalgut\, Sägebachweg 5\, Wichtrach\, Schwei
 z
X-APPLE-STRUCTURED-LOCATION;VALUE=URI;X-ADDRESS=Sägebachweg 5\, Wichtrach\
 , Schweiz;X-APPLE-RADIUS=100;X-TITLE=Christliches Zentrum Thalgut:geo:0,0
END:VEVENT
BEGIN:VEVENT
UID:908@czt.ch
DTSTART;TZID=Europe/Zurich:20260518T060000
DTEND;TZID=Europe/Zurich:20260518T070000
DTSTAMP:20251031T104614Z
URL:https://czt.ch/event/fruehgebet-2026-05-18/
SUMMARY:Frühgebet
DESCRIPTION:Nach einem 5. Sonntag findet jeweils am Montag kein Frühgebet 
 statt.
LOCATION:Raum gelb\, Sägebachweg 5\, Wichtrach\, 3114\, Schweiz
X-APPLE-STRUCTURED-LOCATION;VALUE=URI;X-ADDRESS=Sägebachweg 5\, Wichtrach\
 , 3114\, Schweiz;X-APPLE-RADIUS=100;X-TITLE=Raum gelb:geo:0,0
END:VEVENT
BEGIN:VEVENT
UID:68@czt.ch
DTSTART;TZID=Europe/Zurich:20260519T080000
DTEND;TZID=Europe/Zurich:20260519T100000
DTSTAMP:20251028T103725Z
URL:https://czt.ch/event/feuergebet-2026-05-19/
SUMMARY:Feuergebet
DESCRIPTION:
LOCATION:Raum gelb\, Sägebachweg 5\, Wichtrach\, 3114\, Schweiz
X-APPLE-STRUCTURED-LOCATION;VALUE=URI;X-ADDRESS=Sägebachweg 5\, Wichtrach\
 , 3114\, Schweiz;X-APPLE-RADIUS=100;X-TITLE=Raum gelb:geo:0,0
END:VEVENT
BEGIN:VEVENT
UID:177@czt.ch
DTSTART;TZID=Europe/Zurich:20260519T090000
DTEND;TZID=Europe/Zurich:20260519T110000
DTSTAMP:20251027T140019Z
URL:https://czt.ch/event/frauen-gebet-2026-05-19/
SUMMARY:Frauen Gebet
DESCRIPTION:
LOCATION:Raum weiss\, Sägebachweg 5\, Wichtrach\, Schweiz
X-APPLE-STRUCTURED-LOCATION;VALUE=URI;X-ADDRESS=Sägebachweg 5\, Wichtrach\
 , Schweiz;X-APPLE-RADIUS=100;X-TITLE=Raum weiss:geo:0,0
END:VEVENT
BEGIN:VEVENT
UID:1078@czt.ch
DTSTART;TZID=Europe/Zurich:20260520T193000
DTEND;TZID=Europe/Zurich:20260520T210000
DTSTAMP:20260213T144838Z
URL:https://czt.ch/event/gemeindemitglieder-versammlung-2/
SUMMARY:Gemeindemitglieder Versammlung
DESCRIPTION:
LOCATION:Saal\, Christliches Zentrum Thalgut\, Sägebachweg 1\, Wichtrach\,
  Schweiz
X-APPLE-STRUCTURED-LOCATION;VALUE=URI;X-ADDRESS=Sägebachweg 1\, Wichtrach\
 , Schweiz;X-APPLE-RADIUS=100;X-TITLE=Saal\, Christliches Zentrum Thalgut:g
 eo:0,0
END:VEVENT
BEGIN:VEVENT
UID:1100@czt.ch
DTSTART;TZID=Europe/Zurich:20260520T193000
DTEND;TZID=Europe/Zurich:20260520T210000
DTSTAMP:20260415T145019Z
URL:https://czt.ch/event/kein-gemeindegebet/
SUMMARY:KEIN Gemeindegebet
DESCRIPTION:Da Gemeindemitglieder Versammlung
END:VEVENT
BEGIN:VEVENT
UID:1039@czt.ch
DTSTART;TZID=Europe/Zurich:20260521T200000
DTEND;TZID=Europe/Zurich:20260521T213000
DTSTAMP:20260123T105453Z
URL:https://czt.ch/event/hoerendes-gebet-6/
SUMMARY:Hörendesgebet
DESCRIPTION:
LOCATION:Raum weiss\, Sägebachweg 5\, Wichtrach\, Schweiz
X-APPLE-STRUCTURED-LOCATION;VALUE=URI;X-ADDRESS=Sägebachweg 5\, Wichtrach\
 , Schweiz;X-APPLE-RADIUS=100;X-TITLE=Raum weiss:geo:0,0
END:VEVENT
BEGIN:VEVENT
UID:1060@czt.ch
DTSTART;TZID=Europe/Zurich:20260523T140000
DTEND;TZID=Europe/Zurich:20260523T170000
DTSTAMP:20260123T153432Z
URL:https://czt.ch/event/jungschi-13/
SUMMARY:Jungschi
DESCRIPTION:
LOCATION:Parkplatz Brügger Gärten AG\, Talstrasse 1\, Wichtrach\, Schweiz
X-APPLE-STRUCTURED-LOCATION;VALUE=URI;X-ADDRESS=Talstrasse 1\, Wichtrach\, 
 Schweiz;X-APPLE-RADIUS=100;X-TITLE=Parkplatz Brügger Gärten AG:geo:0,0
END:VEVENT
BEGIN:VEVENT
UID:1007@czt.ch
DTSTART;TZID=Europe/Zurich;VALUE=DATE:20260524
DTEND;TZID=Europe/Zurich;VALUE=DATE:20260525
DTSTAMP:20251217T103632Z
URL:https://czt.ch/event/pfingsten/
SUMMARY:Pfingsten
DESCRIPTION:
END:VEVENT
BEGIN:VEVENT
UID:613@czt.ch
DTSTART;TZID=Europe/Zurich:20260524T100000
DTEND;TZID=Europe/Zurich:20260524T114500
DTSTAMP:20251028T081807Z
URL:https://czt.ch/event/gottesdienst-mit-kinderprogramm-2025-11-02-2025-1
 1-09-2025-11-16-2025-11-23-2025-11-30-2025-12-07-2025-12-14-2025-12-21-202
 5-12-28-2026-01-04-2026-01-11-2026-01-18-2026-01-25-2026-02-01-17-2026-05-
 24/
SUMMARY:Gottesdienst mit Kinderprogramm
DESCRIPTION:Die Kinder starten gemeinsam mit der Familie im Gottesdienst.\n
 Auf den Leinwänden wird der Start des KiHo und KiGo anzeigt.\nAm 4. Sonnt
 ag im Monat starten die KiGo-Kids direkt im grünen Raum für gemeinsame K
 inder-Lobpreiszeit.\nKiHo (Kinderhort)\nAb 1jährig bis Kindergarten\nIm r
 oten Raum. Zugang über Haupteingang\, Untergeschoss.\nKiGo (Kindergottesd
 ienst)\nStart mit Familie im GD Saal.\nAb Kindergarten bis 1. Klasse\nKind
 ergottesdienst im blauen Raum. Zugang über den Haupteingang\, Untergescho
 ss.\nAb 2. Klasse bis 6. Klasse\nKindergottesdienst im grünen Raum. Zugan
 g über Haupteingang\, Untergeschoss.
LOCATION:Christliches Zentrum Thalgut\, Sägebachweg 5\, Wichtrach\, Schwei
 z
X-APPLE-STRUCTURED-LOCATION;VALUE=URI;X-ADDRESS=Sägebachweg 5\, Wichtrach\
 , Schweiz;X-APPLE-RADIUS=100;X-TITLE=Christliches Zentrum Thalgut:geo:0,0
END:VEVENT
BEGIN:VEVENT
UID:1008@czt.ch
DTSTART;TZID=Europe/Zurich;VALUE=DATE:20260525
DTEND;TZID=Europe/Zurich;VALUE=DATE:20260526
DTSTAMP:20251217T110020Z
URL:https://czt.ch/event/pfingstmontag/
SUMMARY:Pfingstmontag
DESCRIPTION:
END:VEVENT
BEGIN:VEVENT
UID:909@czt.ch
DTSTART;TZID=Europe/Zurich:20260525T060000
DTEND;TZID=Europe/Zurich:20260525T070000
DTSTAMP:20251031T104614Z
URL:https://czt.ch/event/fruehgebet-2026-05-25/
SUMMARY:Frühgebet
DESCRIPTION:Nach einem 5. Sonntag findet jeweils am Montag kein Frühgebet 
 statt.
LOCATION:Raum gelb\, Sägebachweg 5\, Wichtrach\, 3114\, Schweiz
X-APPLE-STRUCTURED-LOCATION;VALUE=URI;X-ADDRESS=Sägebachweg 5\, Wichtrach\
 , 3114\, Schweiz;X-APPLE-RADIUS=100;X-TITLE=Raum gelb:geo:0,0
END:VEVENT
BEGIN:VEVENT
UID:69@czt.ch
DTSTART;TZID=Europe/Zurich:20260526T080000
DTEND;TZID=Europe/Zurich:20260526T100000
DTSTAMP:20251028T103725Z
URL:https://czt.ch/event/feuergebet-2026-05-26/
SUMMARY:Feuergebet
DESCRIPTION:
LOCATION:Raum gelb\, Sägebachweg 5\, Wichtrach\, 3114\, Schweiz
X-APPLE-STRUCTURED-LOCATION;VALUE=URI;X-ADDRESS=Sägebachweg 5\, Wichtrach\
 , 3114\, Schweiz;X-APPLE-RADIUS=100;X-TITLE=Raum gelb:geo:0,0
END:VEVENT
BEGIN:VEVENT
UID:178@czt.ch
DTSTART;TZID=Europe/Zurich:20260526T090000
DTEND;TZID=Europe/Zurich:20260526T110000
DTSTAMP:20251027T140019Z
URL:https://czt.ch/event/frauen-gebet-2026-05-26/
SUMMARY:Frauen Gebet
DESCRIPTION:
LOCATION:Raum weiss\, Sägebachweg 5\, Wichtrach\, Schweiz
X-APPLE-STRUCTURED-LOCATION;VALUE=URI;X-ADDRESS=Sägebachweg 5\, Wichtrach\
 , Schweiz;X-APPLE-RADIUS=100;X-TITLE=Raum weiss:geo:0,0
END:VEVENT
BEGIN:VEVENT
UID:729@czt.ch
DTSTART;TZID=Europe/Zurich:20260527T193000
DTEND;TZID=Europe/Zurich:20260527T210000
DTSTAMP:20251030T095313Z
URL:https://czt.ch/event/gmeindegebet-2026-05-27/
SUMMARY:Gemeindegebet
DESCRIPTION:
LOCATION:Saal\, Christliches Zentrum Thalgut\, Sägebachweg 1\, Wichtrach\,
  Schweiz
X-APPLE-STRUCTURED-LOCATION;VALUE=URI;X-ADDRESS=Sägebachweg 1\, Wichtrach\
 , Schweiz;X-APPLE-RADIUS=100;X-TITLE=Saal\, Christliches Zentrum Thalgut:g
 eo:0,0
END:VEVENT
BEGIN:VEVENT
UID:875@czt.ch
DTSTART;TZID=Europe/Zurich:20260530T090000
DTEND;TZID=Europe/Zurich:20260530T113000
DTSTAMP:20260409T092435Z
URL:https://czt.ch/event/czt-mitarbeitermorgen/
SUMMARY:Mitarbeiterbrunch
DESCRIPTION:Für alle CZT-Mitarbeiter aus allen Bereichen\, ob im Putzteam 
 oder im Kinderdienst\, Cafeteria\, Beamer\, ... alle Helfer sind am CZT-Mi
 tarbeiterbrunch eingeladen. Mit Anmeldung!
END:VEVENT
BEGIN:VEVENT
UID:614@czt.ch
DTSTART;TZID=Europe/Zurich:20260531T100000
DTEND;TZID=Europe/Zurich:20260531T114500
DTSTAMP:20251028T081807Z
URL:https://czt.ch/event/gottesdienst-mit-kinderprogramm-2025-11-02-2025-1
 1-09-2025-11-16-2025-11-23-2025-11-30-2025-12-07-2025-12-14-2025-12-21-202
 5-12-28-2026-01-04-2026-01-11-2026-01-18-2026-01-25-2026-02-01-24-2026-05-
 31/
SUMMARY:Gottesdienst mit Kinderprogramm
DESCRIPTION:Die Kinder starten gemeinsam mit der Familie im Gottesdienst.\n
 Auf den Leinwänden wird der Start des KiHo und KiGo anzeigt.\nAm 4. Sonnt
 ag im Monat starten die KiGo-Kids direkt im grünen Raum für gemeinsame K
 inder-Lobpreiszeit.\nKiHo (Kinderhort)\nAb 1jährig bis Kindergarten\nIm r
 oten Raum. Zugang über Haupteingang\, Untergeschoss.\nKiGo (Kindergottesd
 ienst)\nStart mit Familie im GD Saal.\nAb Kindergarten bis 1. Klasse\nKind
 ergottesdienst im blauen Raum. Zugang über den Haupteingang\, Untergescho
 ss.\nAb 2. Klasse bis 6. Klasse\nKindergottesdienst im grünen Raum. Zugan
 g über Haupteingang\, Untergeschoss.
LOCATION:Christliches Zentrum Thalgut\, Sägebachweg 5\, Wichtrach\, Schwei
 z
X-APPLE-STRUCTURED-LOCATION;VALUE=URI;X-ADDRESS=Sägebachweg 5\, Wichtrach\
 , Schweiz;X-APPLE-RADIUS=100;X-TITLE=Christliches Zentrum Thalgut:geo:0,0
END:VEVENT
BEGIN:VEVENT
UID:1101@czt.ch
DTSTART;TZID=Europe/Zurich:20260531T193000
DTEND;TZID=Europe/Zurich:20260531T210000
DTSTAMP:20260415T154531Z
URL:https://czt.ch/event/lobpreisgottesdienst/
SUMMARY:Lobpreisgottesdienst
DESCRIPTION:
LOCATION:Christliches Zentrum Thalgut\, Sägebachweg 5\, Wichtrach\, Schwei
 z
X-APPLE-STRUCTURED-LOCATION;VALUE=URI;X-ADDRESS=Sägebachweg 5\, Wichtrach\
 , Schweiz;X-APPLE-RADIUS=100;X-TITLE=Christliches Zentrum Thalgut:geo:0,0
END:VEVENT
BEGIN:VEVENT
UID:863@czt.ch
DTSTART;TZID=Europe/Zurich:20260531T193000
DTEND;TZID=Europe/Zurich:20260531T210000
DTSTAMP:20251029T160046Z
URL:https://czt.ch/event/lobpreisgottesdienst-2026-03-29-2026-05-31/
SUMMARY:Lobpreisgottesdienst
DESCRIPTION:
LOCATION:Christliches Zentrum Thalgut\, Sägebachweg 5\, Wichtrach\, Schwei
 z
X-APPLE-STRUCTURED-LOCATION;VALUE=URI;X-ADDRESS=Sägebachweg 5\, Wichtrach\
 , Schweiz;X-APPLE-RADIUS=100;X-TITLE=Christliches Zentrum Thalgut:geo:0,0
END:VEVENT
BEGIN:VEVENT
UID:70@czt.ch
DTSTART;TZID=Europe/Zurich:20260602T080000
DTEND;TZID=Europe/Zurich:20260602T100000
DTSTAMP:20251028T103725Z
URL:https://czt.ch/event/feuergebet-2026-06-02/
SUMMARY:Feuergebet
DESCRIPTION:
LOCATION:Raum gelb\, Sägebachweg 5\, Wichtrach\, 3114\, Schweiz
X-APPLE-STRUCTURED-LOCATION;VALUE=URI;X-ADDRESS=Sägebachweg 5\, Wichtrach\
 , 3114\, Schweiz;X-APPLE-RADIUS=100;X-TITLE=Raum gelb:geo:0,0
END:VEVENT
BEGIN:VEVENT
UID:179@czt.ch
DTSTART;TZID=Europe/Zurich:20260602T090000
DTEND;TZID=Europe/Zurich:20260602T110000
DTSTAMP:20251027T140019Z
URL:https://czt.ch/event/frauen-gebet-2026-06-02/
SUMMARY:Frauen Gebet
DESCRIPTION:
LOCATION:Raum weiss\, Sägebachweg 5\, Wichtrach\, Schweiz
X-APPLE-STRUCTURED-LOCATION;VALUE=URI;X-ADDRESS=Sägebachweg 5\, Wichtrach\
 , Schweiz;X-APPLE-RADIUS=100;X-TITLE=Raum weiss:geo:0,0
END:VEVENT
BEGIN:VEVENT
UID:730@czt.ch
DTSTART;TZID=Europe/Zurich:20260603T193000
DTEND;TZID=Europe/Zurich:20260603T210000
DTSTAMP:20251030T095313Z
URL:https://czt.ch/event/gmeindegebet-2026-06-03/
SUMMARY:Gemeindegebet
DESCRIPTION:
LOCATION:Saal\, Christliches Zentrum Thalgut\, Sägebachweg 1\, Wichtrach\,
  Schweiz
X-APPLE-STRUCTURED-LOCATION;VALUE=URI;X-ADDRESS=Sägebachweg 1\, Wichtrach\
 , Schweiz;X-APPLE-RADIUS=100;X-TITLE=Saal\, Christliches Zentrum Thalgut:g
 eo:0,0
END:VEVENT
BEGIN:VEVENT
UID:1079@czt.ch
DTSTART;TZID=Europe/Zurich;VALUE=DATE:20260605
DTEND;TZID=Europe/Zurich;VALUE=DATE:20260607
DTSTAMP:20260213T145330Z
URL:https://czt.ch/event/maennerkonferenz/
SUMMARY:Männerkonferenz
DESCRIPTION:
LOCATION:Christliches Zentrum Thalgut\, Sägebachweg 5\, Wichtrach\, Schwei
 z
X-APPLE-STRUCTURED-LOCATION;VALUE=URI;X-ADDRESS=Sägebachweg 5\, Wichtrach\
 , Schweiz;X-APPLE-RADIUS=100;X-TITLE=Christliches Zentrum Thalgut:geo:0,0
END:VEVENT
BEGIN:VTIMEZONE
TZID:Europe/Zurich
X-LIC-LOCATION:Europe/Zurich
BEGIN:DAYLIGHT
DTSTART:20260329T030000
TZOFFSETFROM:+0100
TZOFFSETTO:+0200
TZNAME:CEST
END:DAYLIGHT
END:VTIMEZONE
END:VCALENDAR