BEGIN:VCALENDAR
VERSION:2.0
PRODID:-//wp-events-plugin.com//7.2.3.1//EN
TZID:Europe/Zurich
X-WR-TIMEZONE:Europe/Zurich
BEGIN:VEVENT
UID:1105@czt.ch
DTSTART;TZID=Europe/Zurich:20260605T180000
DTEND;TZID=Europe/Zurich:20260605T220000
DTSTAMP:20260416T145626Z
URL:https://czt.ch/event/yg-maennerkonferenz-frauen-event/
SUMMARY:YG Special Männerkonferenz /Frauen Event
DESCRIPTION:18.00 gemeinsames Abendessen (mit Anmeldung)\n19.30 Start Progr
 amm\nLink für WhatsApp Chatgruppe: Hier
LOCATION:Saal\, Christliches Zentrum Thalgut\, Sägebachweg 1\, Wichtrach\,
  Schweiz
X-APPLE-STRUCTURED-LOCATION;VALUE=URI;X-ADDRESS=Sägebachweg 1\, Wichtrach\
 , Schweiz;X-APPLE-RADIUS=100;X-TITLE=Saal\, Christliches Zentrum Thalgut:g
 eo:0,0
END:VEVENT
BEGIN:VTIMEZONE
TZID:Europe/Zurich
X-LIC-LOCATION:Europe/Zurich
BEGIN:DAYLIGHT
DTSTART:20260329T030000
TZOFFSETFROM:+0100
TZOFFSETTO:+0200
TZNAME:CEST
END:DAYLIGHT
END:VTIMEZONE
END:VCALENDAR