BEGIN:VCALENDAR
VERSION:2.0
PRODID:-//wp-events-plugin.com//7.2.3.1//EN
TZID:Europe/Zurich
X-WR-TIMEZONE:Europe/Zurich
BEGIN:VEVENT
UID:1106@czt.ch
DTSTART;TZID=Europe/Zurich:20260613T090000
DTEND;TZID=Europe/Zurich:20260613T180000
DTSTAMP:20260416T113953Z
URL:https://czt.ch/event/yg-alp-einsatz-geistesgabe-dienen/
SUMMARY:YG Alp-Einsatz (Geistesgabe Dienen)
DESCRIPTION:Ganzer Tag\nLink für WhatsApp Chatgruppe: Hier
END:VEVENT
BEGIN:VTIMEZONE
TZID:Europe/Zurich
X-LIC-LOCATION:Europe/Zurich
BEGIN:DAYLIGHT
DTSTART:20260329T030000
TZOFFSETFROM:+0100
TZOFFSETTO:+0200
TZNAME:CEST
END:DAYLIGHT
END:VTIMEZONE
END:VCALENDAR