BEGIN:VCALENDAR
VERSION:2.0
PRODID:-//wp-events-plugin.com//7.2.3.1//EN
TZID:Europe/Zurich
X-WR-TIMEZONE:Europe/Zurich
BEGIN:VEVENT
UID:1012@czt.ch
DTSTART;TZID=Europe/Zurich;VALUE=DATE:20261225
DTEND;TZID=Europe/Zurich;VALUE=DATE:20261226
DTSTAMP:20251217T104109Z
URL:https://czt.ch/event/weihnachten-3/
SUMMARY:Weihnachten
DESCRIPTION:
END:VEVENT
BEGIN:VTIMEZONE
TZID:Europe/Zurich
X-LIC-LOCATION:Europe/Zurich
BEGIN:STANDARD
DTSTART:20261025T020000
TZOFFSETFROM:+0200
TZOFFSETTO:+0100
TZNAME:CET
END:STANDARD
END:VTIMEZONE
END:VCALENDAR