BEGIN:VCALENDAR
VERSION:2.0
PRODID:-//wp-events-plugin.com//7.2.3.1//EN
TZID:Europe/Zurich
X-WR-TIMEZONE:Europe/Zurich
BEGIN:VEVENT
UID:822@czt.ch
DTSTART;TZID=Europe/Zurich:20260610T140000
DTEND;TZID=Europe/Zurich:20260610T160000
DTSTAMP:20251028T084108Z
URL:https://czt.ch/event/senioren-nachmittag-2025-11-12-2025-12-10-2026-01
 -14-2026-02-11-2026-03-11-2026-04-08-2026-05-13-2026-06-10/
SUMMARY:Senioren Nachmittag
DESCRIPTION:
LOCATION:Raum grün\, Sägebachweg 5\, Wichtrach\, Schweiz
X-APPLE-STRUCTURED-LOCATION;VALUE=URI;X-ADDRESS=Sägebachweg 5\, Wichtrach\
 , Schweiz;X-APPLE-RADIUS=100;X-TITLE=Raum grün:geo:0,0
END:VEVENT
BEGIN:VTIMEZONE
TZID:Europe/Zurich
X-LIC-LOCATION:Europe/Zurich
BEGIN:DAYLIGHT
DTSTART:20260329T030000
TZOFFSETFROM:+0100
TZOFFSETTO:+0200
TZNAME:CEST
END:DAYLIGHT
END:VTIMEZONE
END:VCALENDAR