BEGIN:VCALENDAR
VERSION:2.0
PRODID:-//wp-events-plugin.com//7.2.3.1//EN
TZID:Europe/Zurich
X-WR-TIMEZONE:Europe/Zurich
BEGIN:VEVENT
UID:831@czt.ch
DTSTART;TZID=Europe/Zurich:20270310T140000
DTEND;TZID=Europe/Zurich:20270310T160000
DTSTAMP:20251028T084108Z
URL:https://czt.ch/event/senioren-nachmittag-2025-11-12-2025-12-10-2026-01
 -14-2026-02-11-2026-03-11-2026-04-08-2026-05-13-2026-06-10-2026-07-08-2026
 -08-12-2026-09-09-2026-10-14-2026-11-11-2026-12-09-2027-01-13-2-10-2027-03
 -10/
SUMMARY:Senioren Nachmittag
DESCRIPTION:
LOCATION:Raum grün\, Sägebachweg 5\, Wichtrach\, Schweiz
X-APPLE-STRUCTURED-LOCATION;VALUE=URI;X-ADDRESS=Sägebachweg 5\, Wichtrach\
 , Schweiz;X-APPLE-RADIUS=100;X-TITLE=Raum grün:geo:0,0
END:VEVENT
BEGIN:VTIMEZONE
TZID:Europe/Zurich
X-LIC-LOCATION:Europe/Zurich
BEGIN:STANDARD
DTSTART:20261025T020000
TZOFFSETFROM:+0200
TZOFFSETTO:+0100
TZNAME:CET
END:STANDARD
END:VTIMEZONE
END:VCALENDAR