BEGIN:VCALENDAR
VERSION:2.0
PRODID:-//wp-events-plugin.com//7.2.3.1//EN
TZID:Europe/Zurich
X-WR-TIMEZONE:Europe/Zurich
BEGIN:VEVENT
UID:868@czt.ch
DTSTART;TZID=Europe/Zurich:20270829T193000
DTEND;TZID=Europe/Zurich:20270829T210000
DTSTAMP:20251029T160046Z
URL:https://czt.ch/event/lobpreisgottesdienst-2026-03-29-2026-05-31-2026-0
 8-30-2026-11-29-2027-01-31-2027-05-30-2027-08-29/
SUMMARY:Lobpreisgottesdienst
DESCRIPTION:
LOCATION:Christliches Zentrum Thalgut\, Sägebachweg 5\, Wichtrach\, Schwei
 z
X-APPLE-STRUCTURED-LOCATION;VALUE=URI;X-ADDRESS=Sägebachweg 5\, Wichtrach\
 , Schweiz;X-APPLE-RADIUS=100;X-TITLE=Christliches Zentrum Thalgut:geo:0,0
END:VEVENT
BEGIN:VTIMEZONE
TZID:Europe/Zurich
X-LIC-LOCATION:Europe/Zurich
BEGIN:DAYLIGHT
DTSTART:20270328T030000
TZOFFSETFROM:+0100
TZOFFSETTO:+0200
TZNAME:CEST
END:DAYLIGHT
END:VTIMEZONE
END:VCALENDAR