BEGIN:VCALENDAR
VERSION:2.0
PRODID:-//wp-events-plugin.com//7.2.3.1//EN
TZID:Europe/Zurich
X-WR-TIMEZONE:Europe/Zurich
BEGIN:VEVENT
UID:858@czt.ch
DTSTART;TZID=Europe/Zurich;VALUE=DATE:20260725
DTEND;TZID=Europe/Zurich;VALUE=DATE:20260802
DTSTAMP:20260213T145835Z
URL:https://czt.ch/event/kinder-und-teenielager/
SUMMARY:Kinder- und Teenielager in Gstaad
DESCRIPTION:
LOCATION:Gstaad\, \, 
X-APPLE-STRUCTURED-LOCATION;VALUE=URI;X-ADDRESS=\, ;X-APPLE-RADIUS=100;X-TI
 TLE=Gstaad:geo:0,0
END:VEVENT
BEGIN:VTIMEZONE
TZID:Europe/Zurich
X-LIC-LOCATION:Europe/Zurich
BEGIN:DAYLIGHT
DTSTART:20260329T030000
TZOFFSETFROM:+0100
TZOFFSETTO:+0200
TZNAME:CEST
END:DAYLIGHT
END:VTIMEZONE
END:VCALENDAR