BEGIN:VCALENDAR
VERSION:2.0
PRODID:-//wp-events-plugin.com//7.2.3.1//EN
TZID:Europe/Zurich
X-WR-TIMEZONE:Europe/Zurich
BEGIN:VEVENT
UID:1088@czt.ch
DTSTART;TZID=Europe/Zurich;VALUE=DATE:20260913
DTEND;TZID=Europe/Zurich;VALUE=DATE:20260914
DTSTAMP:20260216T163737Z
URL:https://czt.ch/event/kein-gottesdienst-im-czt/
SUMMARY:KEIN Gottesdienst im CZT
DESCRIPTION:
END:VEVENT
BEGIN:VTIMEZONE
TZID:Europe/Zurich
X-LIC-LOCATION:Europe/Zurich
BEGIN:DAYLIGHT
DTSTART:20260329T030000
TZOFFSETFROM:+0100
TZOFFSETTO:+0200
TZNAME:CEST
END:DAYLIGHT
END:VTIMEZONE
END:VCALENDAR