BEGIN:VCALENDAR
VERSION:2.0
PRODID:-//wp-events-plugin.com//7.2.3.1//EN
TZID:Europe/Zurich
X-WR-TIMEZONE:Europe/Zurich
BEGIN:VEVENT
UID:659@czt.ch
DTSTART;TZID=Europe/Zurich:20270411T100000
DTEND;TZID=Europe/Zurich:20270411T114500
DTSTAMP:20251028T081807Z
URL:https://czt.ch/event/gottesdienst-mit-kinderprogramm-2025-11-02-2025-1
 1-09-2025-11-16-2025-11-23-2025-11-30-2025-12-07-2025-12-14-2025-12-21-202
 5-12-28-2026-01-04-2026-01-11-2026-01-18-2026-01-25-2026-02-01-04-2027-04-
 11/
SUMMARY:Gottesdienst mit Kinderprogramm
DESCRIPTION:Die Kinder starten gemeinsam mit der Familie im Gottesdienst.\n
 Auf den Leinwänden wird der Start des KiHo und KiGo anzeigt.\nAm 4. Sonnt
 ag im Monat starten die KiGo-Kids direkt im grünen Raum für gemeinsame K
 inder-Lobpreiszeit.\nKiHo (Kinderhort)\nAb 1jährig bis Kindergarten\nIm r
 oten Raum. Zugang über Haupteingang\, Untergeschoss.\nKiGo (Kindergottesd
 ienst)\nStart mit Familie im GD Saal.\nAb Kindergarten bis 1. Klasse\nKind
 ergottesdienst im blauen Raum. Zugang über den Haupteingang\, Untergescho
 ss.\nAb 2. Klasse bis 6. Klasse\nKindergottesdienst im grünen Raum. Zugan
 g über Haupteingang\, Untergeschoss.
LOCATION:Christliches Zentrum Thalgut\, Sägebachweg 5\, Wichtrach\, Schwei
 z
X-APPLE-STRUCTURED-LOCATION;VALUE=URI;X-ADDRESS=Sägebachweg 5\, Wichtrach\
 , Schweiz;X-APPLE-RADIUS=100;X-TITLE=Christliches Zentrum Thalgut:geo:0,0
END:VEVENT
BEGIN:VTIMEZONE
TZID:Europe/Zurich
X-LIC-LOCATION:Europe/Zurich
BEGIN:DAYLIGHT
DTSTART:20270328T030000
TZOFFSETFROM:+0100
TZOFFSETTO:+0200
TZNAME:CEST
END:DAYLIGHT
END:VTIMEZONE
END:VCALENDAR