BEGIN:VCALENDAR
VERSION:2.0
PRODID:-//wp-events-plugin.com//7.2.3.1//EN
TZID:Europe/Zurich
X-WR-TIMEZONE:Europe/Zurich
BEGIN:VEVENT
UID:776@czt.ch
DTSTART;TZID=Europe/Zurich:20270421T193000
DTEND;TZID=Europe/Zurich:20270421T210000
DTSTAMP:20251030T095313Z
URL:https://czt.ch/event/gmeindegebet-2027-04-21/
SUMMARY:Gemeindegebet
DESCRIPTION:
LOCATION:Saal\, Christliches Zentrum Thalgut\, Sägebachweg 1\, Wichtrach\,
  Schweiz
X-APPLE-STRUCTURED-LOCATION;VALUE=URI;X-ADDRESS=Sägebachweg 1\, Wichtrach\
 , Schweiz;X-APPLE-RADIUS=100;X-TITLE=Saal\, Christliches Zentrum Thalgut:g
 eo:0,0
END:VEVENT
BEGIN:VTIMEZONE
TZID:Europe/Zurich
X-LIC-LOCATION:Europe/Zurich
BEGIN:DAYLIGHT
DTSTART:20270328T030000
TZOFFSETFROM:+0100
TZOFFSETTO:+0200
TZNAME:CEST
END:DAYLIGHT
END:VTIMEZONE
END:VCALENDAR