BEGIN:VCALENDAR
VERSION:2.0
PRODID:-//wp-events-plugin.com//7.2.3.1//EN
TZID:Europe/Zurich
X-WR-TIMEZONE:Europe/Zurich
BEGIN:VEVENT
UID:1094@czt.ch
DTSTART;TZID=Europe/Zurich:20261111T193000
DTEND;TZID=Europe/Zurich:20261111T210000
DTSTAMP:20260216T164655Z
URL:https://czt.ch/event/gemeindemitglieder-versammlung-3/
SUMMARY:Gemeindemitglieder-Versammlung
DESCRIPTION:
LOCATION:Saal\, Christliches Zentrum Thalgut\, Sägebachweg 1\, Wichtrach\,
  Schweiz
X-APPLE-STRUCTURED-LOCATION;VALUE=URI;X-ADDRESS=Sägebachweg 1\, Wichtrach\
 , Schweiz;X-APPLE-RADIUS=100;X-TITLE=Saal\, Christliches Zentrum Thalgut:g
 eo:0,0
END:VEVENT
BEGIN:VTIMEZONE
TZID:Europe/Zurich
X-LIC-LOCATION:Europe/Zurich
BEGIN:STANDARD
DTSTART:20261025T020000
TZOFFSETFROM:+0200
TZOFFSETTO:+0100
TZNAME:CET
END:STANDARD
END:VTIMEZONE
END:VCALENDAR