BEGIN:VCALENDAR
VERSION:2.0
PRODID:-//wp-events-plugin.com//7.2.3.1//EN
TZID:Europe/Zurich
X-WR-TIMEZONE:Europe/Zurich
BEGIN:VEVENT
UID:947@czt.ch
DTSTART;TZID=Europe/Zurich:20270215T060000
DTEND;TZID=Europe/Zurich:20270215T070000
DTSTAMP:20251031T104614Z
URL:https://czt.ch/event/fruehgebet-2027-02-15/
SUMMARY:Frühgebet
DESCRIPTION:Nach einem 5. Sonntag findet jeweils am Montag kein Frühgebet 
 statt.
LOCATION:Raum gelb\, Sägebachweg 5\, Wichtrach\, 3114\, Schweiz
X-APPLE-STRUCTURED-LOCATION;VALUE=URI;X-ADDRESS=Sägebachweg 5\, Wichtrach\
 , 3114\, Schweiz;X-APPLE-RADIUS=100;X-TITLE=Raum gelb:geo:0,0
END:VEVENT
BEGIN:VTIMEZONE
TZID:Europe/Zurich
X-LIC-LOCATION:Europe/Zurich
BEGIN:STANDARD
DTSTART:20261025T020000
TZOFFSETFROM:+0200
TZOFFSETTO:+0100
TZNAME:CET
END:STANDARD
END:VTIMEZONE
END:VCALENDAR