BEGIN:VCALENDAR
VERSION:2.0
PRODID:-//wp-events-plugin.com//7.2.3.1//EN
TZID:Europe/Zurich
X-WR-TIMEZONE:Europe/Zurich
BEGIN:VEVENT
UID:916@czt.ch
DTSTART;TZID=Europe/Zurich:20260713T060000
DTEND;TZID=Europe/Zurich:20260713T070000
DTSTAMP:20251031T104614Z
URL:https://czt.ch/event/fruehgebet-2026-07-13/
SUMMARY:Frühgebet
DESCRIPTION:Nach einem 5. Sonntag findet jeweils am Montag kein Frühgebet 
 statt.
LOCATION:Raum gelb\, Sägebachweg 5\, Wichtrach\, 3114\, Schweiz
X-APPLE-STRUCTURED-LOCATION;VALUE=URI;X-ADDRESS=Sägebachweg 5\, Wichtrach\
 , 3114\, Schweiz;X-APPLE-RADIUS=100;X-TITLE=Raum gelb:geo:0,0
END:VEVENT
BEGIN:VTIMEZONE
TZID:Europe/Zurich
X-LIC-LOCATION:Europe/Zurich
BEGIN:DAYLIGHT
DTSTART:20260329T030000
TZOFFSETFROM:+0100
TZOFFSETTO:+0200
TZNAME:CEST
END:DAYLIGHT
END:VTIMEZONE
END:VCALENDAR