BEGIN:VCALENDAR
VERSION:2.0
PRODID:-//wp-events-plugin.com//7.2.3.1//EN
TZID:Europe/Zurich
X-WR-TIMEZONE:Europe/Zurich
BEGIN:VEVENT
UID:208@czt.ch
DTSTART;TZID=Europe/Zurich:20261222T090000
DTEND;TZID=Europe/Zurich:20261222T110000
DTSTAMP:20251027T140019Z
URL:https://czt.ch/event/frauen-gebet-2026-12-22/
SUMMARY:Frauen Gebet
DESCRIPTION:
LOCATION:Raum weiss\, Sägebachweg 5\, Wichtrach\, Schweiz
X-APPLE-STRUCTURED-LOCATION;VALUE=URI;X-ADDRESS=Sägebachweg 5\, Wichtrach\
 , Schweiz;X-APPLE-RADIUS=100;X-TITLE=Raum weiss:geo:0,0
END:VEVENT
BEGIN:VTIMEZONE
TZID:Europe/Zurich
X-LIC-LOCATION:Europe/Zurich
BEGIN:STANDARD
DTSTART:20261025T020000
TZOFFSETFROM:+0200
TZOFFSETTO:+0100
TZNAME:CET
END:STANDARD
END:VTIMEZONE
END:VCALENDAR