BEGIN:VCALENDAR
VERSION:2.0
PRODID:-//wp-events-plugin.com//7.2.3.1//EN
TZID:Europe/Zurich
X-WR-TIMEZONE:Europe/Zurich
BEGIN:VEVENT
UID:87@czt.ch
DTSTART;TZID=Europe/Zurich:20260929T080000
DTEND;TZID=Europe/Zurich:20260929T100000
DTSTAMP:20251028T103725Z
URL:https://czt.ch/event/feuergebet-2026-09-29/
SUMMARY:Feuergebet
DESCRIPTION:
LOCATION:Raum gelb\, Sägebachweg 5\, Wichtrach\, 3114\, Schweiz
X-APPLE-STRUCTURED-LOCATION;VALUE=URI;X-ADDRESS=Sägebachweg 5\, Wichtrach\
 , 3114\, Schweiz;X-APPLE-RADIUS=100;X-TITLE=Raum gelb:geo:0,0
END:VEVENT
BEGIN:VTIMEZONE
TZID:Europe/Zurich
X-LIC-LOCATION:Europe/Zurich
BEGIN:DAYLIGHT
DTSTART:20260329T030000
TZOFFSETFROM:+0100
TZOFFSETTO:+0200
TZNAME:CEST
END:DAYLIGHT
END:VTIMEZONE
END:VCALENDAR