BEGIN:VCALENDAR
VERSION:2.0
PRODID:-//wp-events-plugin.com//7.2.3.1//EN
TZID:Europe/Zurich
X-WR-TIMEZONE:Europe/Zurich
BEGIN:VEVENT
UID:1087@czt.ch
DTSTART;TZID=Europe/Zurich:20260913T100000
DTEND;TZID=Europe/Zurich:20260913T140000
DTSTAMP:20260216T163624Z
URL:https://czt.ch/event/fcgs-gottesdienst-in-tavannes/
SUMMARY:FCGS-Gottesdienst in Tavannes
DESCRIPTION:
LOCATION:CET-Tavannes\, La Combe 10\, Tavannes\, 2710\, Schweiz
X-APPLE-STRUCTURED-LOCATION;VALUE=URI;X-ADDRESS=La Combe 10\, Tavannes\, 27
 10\, Schweiz;X-APPLE-RADIUS=100;X-TITLE=CET-Tavannes:geo:0,0
END:VEVENT
BEGIN:VTIMEZONE
TZID:Europe/Zurich
X-LIC-LOCATION:Europe/Zurich
BEGIN:DAYLIGHT
DTSTART:20260329T030000
TZOFFSETFROM:+0100
TZOFFSETTO:+0200
TZNAME:CEST
END:DAYLIGHT
END:VTIMEZONE
END:VCALENDAR