BEGIN:VCALENDAR
VERSION:2.0
PRODID:-//wp-events-plugin.com//7.2.3.1//EN
TZID:Europe/Zurich
X-WR-TIMEZONE:Europe/Zurich
BEGIN:VEVENT
UID:1097@czt.ch
DTSTART;TZID=Europe/Zurich:20261220T100000
DTEND;TZID=Europe/Zurich:20261220T114500
DTSTAMP:20260216T165117Z
URL:https://czt.ch/event/familien-weihnachts-gottesdienst/
SUMMARY:Familien-Weihnachts-Gottesdienst
DESCRIPTION:
LOCATION:Christliches Zentrum Thalgut\, Sägebachweg 5\, Wichtrach\, Schwei
 z
X-APPLE-STRUCTURED-LOCATION;VALUE=URI;X-ADDRESS=Sägebachweg 5\, Wichtrach\
 , Schweiz;X-APPLE-RADIUS=100;X-TITLE=Christliches Zentrum Thalgut:geo:0,0
END:VEVENT
BEGIN:VTIMEZONE
TZID:Europe/Zurich
X-LIC-LOCATION:Europe/Zurich
BEGIN:STANDARD
DTSTART:20261025T020000
TZOFFSETFROM:+0200
TZOFFSETTO:+0100
TZNAME:CET
END:STANDARD
END:VTIMEZONE
END:VCALENDAR