BEGIN:VCALENDAR
VERSION:2.0
PRODID:-//wp-events-plugin.com//7.2.3.1//EN
TZID:Europe/Zurich
X-WR-TIMEZONE:Europe/Zurich
BEGIN:VEVENT
UID:876@czt.ch
DTSTART;TZID=Europe/Zurich:20260614T100000
DTEND;TZID=Europe/Zurich:20260614T114500
DTSTAMP:20251031T102205Z
URL:https://czt.ch/event/connect-teens-abschluss-gd/
SUMMARY:Connect-Teens Abschluss GD
DESCRIPTION:Abschluss Gottesdienst der 9. Klässler\nGottesdienst mit Kinde
 rprogramm
LOCATION:Christliches Zentrum Thalgut\, Sägebachweg 5\, Wichtrach\, Schwei
 z
X-APPLE-STRUCTURED-LOCATION;VALUE=URI;X-ADDRESS=Sägebachweg 5\, Wichtrach\
 , Schweiz;X-APPLE-RADIUS=100;X-TITLE=Christliches Zentrum Thalgut:geo:0,0
END:VEVENT
BEGIN:VTIMEZONE
TZID:Europe/Zurich
X-LIC-LOCATION:Europe/Zurich
BEGIN:DAYLIGHT
DTSTART:20260329T030000
TZOFFSETFROM:+0100
TZOFFSETTO:+0200
TZNAME:CEST
END:DAYLIGHT
END:VTIMEZONE
END:VCALENDAR