BEGIN:VCALENDAR
VERSION:2.0
PRODID:-//wp-events-plugin.com//7.2.3.1//EN
TZID:Europe/Zurich
X-WR-TIMEZONE:Europe/Zurich
BEGIN:VEVENT
UID:1025@czt.ch
DTSTART;TZID=Europe/Zurich;VALUE=DATE:20270919
DTEND;TZID=Europe/Zurich;VALUE=DATE:20270920
DTSTAMP:20251217T105219Z
URL:https://czt.ch/event/buss-und-bettag/
SUMMARY:Buss- und Bettag
DESCRIPTION:
END:VEVENT
BEGIN:VTIMEZONE
TZID:Europe/Zurich
X-LIC-LOCATION:Europe/Zurich
BEGIN:DAYLIGHT
DTSTART:20270328T030000
TZOFFSETFROM:+0100
TZOFFSETTO:+0200
TZNAME:CEST
END:DAYLIGHT
END:VTIMEZONE
END:VCALENDAR