BEGIN:VCALENDAR
VERSION:2.0
PRODID:-//wp-events-plugin.com//7.2.3.1//EN
TZID:Europe/Zurich
X-WR-TIMEZONE:Europe/Zurich
BEGIN:VEVENT
UID:1028@czt.ch
DTSTART;TZID=Europe/Zurich;VALUE=DATE:20280102
DTEND;TZID=Europe/Zurich;VALUE=DATE:20280103
DTSTAMP:20251217T105655Z
URL:https://czt.ch/event/berchtoldstag-3/
SUMMARY:Berchtoldstag
DESCRIPTION:
END:VEVENT
BEGIN:VTIMEZONE
TZID:Europe/Zurich
X-LIC-LOCATION:Europe/Zurich
BEGIN:STANDARD
DTSTART:20271031T020000
TZOFFSETFROM:+0200
TZOFFSETTO:+0100
TZNAME:CET
END:STANDARD
END:VTIMEZONE
END:VCALENDAR